BEGIN:VCALENDAR
VERSION:2.0
PRODID:-//Ecumen - ECPv6.15.20//NONSGML v1.0//EN
CALSCALE:GREGORIAN
METHOD:PUBLISH
X-ORIGINAL-URL:https://ecumen.org
X-WR-CALDESC:Events for Ecumen
REFRESH-INTERVAL;VALUE=DURATION:PT1H
X-Robots-Tag:noindex
X-PUBLISHED-TTL:PT1H
BEGIN:VTIMEZONE
TZID:America/Chicago
BEGIN:DAYLIGHT
TZOFFSETFROM:-0600
TZOFFSETTO:-0500
TZNAME:CDT
DTSTART:20240310T080000
END:DAYLIGHT
BEGIN:STANDARD
TZOFFSETFROM:-0500
TZOFFSETTO:-0600
TZNAME:CST
DTSTART:20241103T070000
END:STANDARD
BEGIN:DAYLIGHT
TZOFFSETFROM:-0600
TZOFFSETTO:-0500
TZNAME:CDT
DTSTART:20250309T080000
END:DAYLIGHT
BEGIN:STANDARD
TZOFFSETFROM:-0500
TZOFFSETTO:-0600
TZNAME:CST
DTSTART:20251102T070000
END:STANDARD
BEGIN:DAYLIGHT
TZOFFSETFROM:-0600
TZOFFSETTO:-0500
TZNAME:CDT
DTSTART:20260308T080000
END:DAYLIGHT
BEGIN:STANDARD
TZOFFSETFROM:-0500
TZOFFSETTO:-0600
TZNAME:CST
DTSTART:20261101T070000
END:STANDARD
END:VTIMEZONE
BEGIN:VEVENT
DTSTART;TZID=America/Chicago:20250628T100000
DTEND;TZID=America/Chicago:20250629T180000
DTSTAMP:20260423T074030
CREATED:20250530T005601Z
LAST-MODIFIED:20250530T012640Z
UID:10000036-1751104800-1751220000@ecumen.org
SUMMARY:CELEBRATE TWIN CITIES PRIDE WITH US!
DESCRIPTION:When: Saturday\, June 28 (10AM – 7:PM) and Sunday\, June 29 (10AM – 6PM)\nWhere: Twin Cities Pride Festival (Loring Park — Booth #94)\nAddress: 407 W 15th St. | Minneapolis\, MN \nEcumen is for everyone!  Come see us at the Twin Cities Pride Festival — booth #94 near the Blue Area food court!\nEcumen is an award-winning nonprofit leader of living spaces and services for older adults. Whether you live here or work here\, we think you’ll find it’s a place where you belong.* \n“There’s a reason we do things differently. Every person has a story. And every person deserves the opportunity to be themselves and live the way they want to live\, at any age!”\n– Shelley Kendrick | Ecumen President & CEO \n*Visit ecumen.org/pride to learn more about our living spaces & career opportunities!
URL:https://ecumen.org/event/twin-cities-pride-2025/
LOCATION:Twin Cities Pride Festival\, 407 W 15th St.\, Minneapolis\, MN\, 55408\, United States
ATTACH;FMTTYPE=image/jpeg:https://ecumen.org/wp-content/uploads/2025/05/WEBimg_Pride-eventpg_hero1200x630.jpg
END:VEVENT
END:VCALENDAR