BEGIN:VCALENDAR
VERSION:2.0
PRODID:-//Ecumen - ECPv6.15.20//NONSGML v1.0//EN
CALSCALE:GREGORIAN
METHOD:PUBLISH
X-WR-CALNAME:Ecumen
X-ORIGINAL-URL:https://ecumen.org
X-WR-CALDESC:Events for Ecumen
REFRESH-INTERVAL;VALUE=DURATION:PT1H
X-Robots-Tag:noindex
X-PUBLISHED-TTL:PT1H
BEGIN:VTIMEZONE
TZID:America/Chicago
BEGIN:DAYLIGHT
TZOFFSETFROM:-0600
TZOFFSETTO:-0500
TZNAME:CDT
DTSTART:20280312T080000
END:DAYLIGHT
BEGIN:STANDARD
TZOFFSETFROM:-0500
TZOFFSETTO:-0600
TZNAME:CST
DTSTART:20281105T070000
END:STANDARD
BEGIN:DAYLIGHT
TZOFFSETFROM:-0600
TZOFFSETTO:-0500
TZNAME:CDT
DTSTART:20290311T080000
END:DAYLIGHT
BEGIN:STANDARD
TZOFFSETFROM:-0500
TZOFFSETTO:-0600
TZNAME:CST
DTSTART:20291104T070000
END:STANDARD
BEGIN:DAYLIGHT
TZOFFSETFROM:-0600
TZOFFSETTO:-0500
TZNAME:CDT
DTSTART:20300310T080000
END:DAYLIGHT
BEGIN:STANDARD
TZOFFSETFROM:-0500
TZOFFSETTO:-0600
TZNAME:CST
DTSTART:20301103T070000
END:STANDARD
BEGIN:DAYLIGHT
TZOFFSETFROM:-0600
TZOFFSETTO:-0500
TZNAME:CDT
DTSTART:20310309T080000
END:DAYLIGHT
BEGIN:STANDARD
TZOFFSETFROM:-0500
TZOFFSETTO:-0600
TZNAME:CST
DTSTART:20311102T070000
END:STANDARD
END:VTIMEZONE
BEGIN:VEVENT
DTSTART;TZID=America/Chicago:20290425T100000
DTEND;TZID=America/Chicago:20290425T110000
DTSTAMP:20260420T002401
CREATED:20250806T202622Z
LAST-MODIFIED:20250806T202622Z
UID:10000204-1871805600-1871809200@ecumen.org
SUMMARY:Monthly Dementia Caregiver Support Group | The 4th Wednesday of Every Month from 10am-11am
DESCRIPTION:Where: Ecumen St. Benedict’s Community St. Cloud\nAddress: 1810 Minnesota Blvd. SE\, St. Cloud\, MN \nMonthly Dementia Caregiver Support Group — The 4th Wednesday of Every Month from 10am-11am.\nEcumen – St. Benedict’s Community is pleased to announce a new caregivers support group for those who are caring for loved ones with dementia. The group will discuss struggles along with success stories. There will also be an opportunity for presentations from agencies that may be of interest to the group. \nThis Dementia Caregiver Support Group is open to the public. \nRegister by contacting Melinda at: MelindaFast@ecumen.org | 320-203-2747\nSchedule a tour at your convenience by calling Melinda.
URL:https://ecumen.org/event/st-benedicts-community-st-cloud-monthly-dementia-caregiver-support-group-2025/2029-04-25/
LOCATION:St. Benedict’s Community — St. Cloud\, 1810 Minnesota Blvd.\, St. Cloud\, MN\, 56304\, United States
ATTACH;FMTTYPE=image/jpeg:https://ecumen.org/wp-content/uploads/2025/08/WEB-1920X1005_DementiaCaregiver-1.jpg
ORGANIZER;CN="Melinda Fast | Ecumen St. Benedict's Community St. Cloud":MAILTO:MelindaFast@ecumen.org
END:VEVENT
BEGIN:VEVENT
DTSTART;TZID=America/Chicago:20290523T100000
DTEND;TZID=America/Chicago:20290523T110000
DTSTAMP:20260420T002401
CREATED:20250806T202622Z
LAST-MODIFIED:20250806T202622Z
UID:10000205-1874224800-1874228400@ecumen.org
SUMMARY:Monthly Dementia Caregiver Support Group | The 4th Wednesday of Every Month from 10am-11am
DESCRIPTION:Where: Ecumen St. Benedict’s Community St. Cloud\nAddress: 1810 Minnesota Blvd. SE\, St. Cloud\, MN \nMonthly Dementia Caregiver Support Group — The 4th Wednesday of Every Month from 10am-11am.\nEcumen – St. Benedict’s Community is pleased to announce a new caregivers support group for those who are caring for loved ones with dementia. The group will discuss struggles along with success stories. There will also be an opportunity for presentations from agencies that may be of interest to the group. \nThis Dementia Caregiver Support Group is open to the public. \nRegister by contacting Melinda at: MelindaFast@ecumen.org | 320-203-2747\nSchedule a tour at your convenience by calling Melinda.
URL:https://ecumen.org/event/st-benedicts-community-st-cloud-monthly-dementia-caregiver-support-group-2025/2029-05-23/
LOCATION:St. Benedict’s Community — St. Cloud\, 1810 Minnesota Blvd.\, St. Cloud\, MN\, 56304\, United States
ATTACH;FMTTYPE=image/jpeg:https://ecumen.org/wp-content/uploads/2025/08/WEB-1920X1005_DementiaCaregiver-1.jpg
ORGANIZER;CN="Melinda Fast | Ecumen St. Benedict's Community St. Cloud":MAILTO:MelindaFast@ecumen.org
END:VEVENT
BEGIN:VEVENT
DTSTART;TZID=America/Chicago:20290627T100000
DTEND;TZID=America/Chicago:20290627T110000
DTSTAMP:20260420T002401
CREATED:20250806T202622Z
LAST-MODIFIED:20250806T202622Z
UID:10000206-1877248800-1877252400@ecumen.org
SUMMARY:Monthly Dementia Caregiver Support Group | The 4th Wednesday of Every Month from 10am-11am
DESCRIPTION:Where: Ecumen St. Benedict’s Community St. Cloud\nAddress: 1810 Minnesota Blvd. SE\, St. Cloud\, MN \nMonthly Dementia Caregiver Support Group — The 4th Wednesday of Every Month from 10am-11am.\nEcumen – St. Benedict’s Community is pleased to announce a new caregivers support group for those who are caring for loved ones with dementia. The group will discuss struggles along with success stories. There will also be an opportunity for presentations from agencies that may be of interest to the group. \nThis Dementia Caregiver Support Group is open to the public. \nRegister by contacting Melinda at: MelindaFast@ecumen.org | 320-203-2747\nSchedule a tour at your convenience by calling Melinda.
URL:https://ecumen.org/event/st-benedicts-community-st-cloud-monthly-dementia-caregiver-support-group-2025/2029-06-27/
LOCATION:St. Benedict’s Community — St. Cloud\, 1810 Minnesota Blvd.\, St. Cloud\, MN\, 56304\, United States
ATTACH;FMTTYPE=image/jpeg:https://ecumen.org/wp-content/uploads/2025/08/WEB-1920X1005_DementiaCaregiver-1.jpg
ORGANIZER;CN="Melinda Fast | Ecumen St. Benedict's Community St. Cloud":MAILTO:MelindaFast@ecumen.org
END:VEVENT
BEGIN:VEVENT
DTSTART;TZID=America/Chicago:20290725T100000
DTEND;TZID=America/Chicago:20290725T110000
DTSTAMP:20260420T002401
CREATED:20250806T202622Z
LAST-MODIFIED:20250806T202622Z
UID:10000207-1879668000-1879671600@ecumen.org
SUMMARY:Monthly Dementia Caregiver Support Group | The 4th Wednesday of Every Month from 10am-11am
DESCRIPTION:Where: Ecumen St. Benedict’s Community St. Cloud\nAddress: 1810 Minnesota Blvd. SE\, St. Cloud\, MN \nMonthly Dementia Caregiver Support Group — The 4th Wednesday of Every Month from 10am-11am.\nEcumen – St. Benedict’s Community is pleased to announce a new caregivers support group for those who are caring for loved ones with dementia. The group will discuss struggles along with success stories. There will also be an opportunity for presentations from agencies that may be of interest to the group. \nThis Dementia Caregiver Support Group is open to the public. \nRegister by contacting Melinda at: MelindaFast@ecumen.org | 320-203-2747\nSchedule a tour at your convenience by calling Melinda.
URL:https://ecumen.org/event/st-benedicts-community-st-cloud-monthly-dementia-caregiver-support-group-2025/2029-07-25/
LOCATION:St. Benedict’s Community — St. Cloud\, 1810 Minnesota Blvd.\, St. Cloud\, MN\, 56304\, United States
ATTACH;FMTTYPE=image/jpeg:https://ecumen.org/wp-content/uploads/2025/08/WEB-1920X1005_DementiaCaregiver-1.jpg
ORGANIZER;CN="Melinda Fast | Ecumen St. Benedict's Community St. Cloud":MAILTO:MelindaFast@ecumen.org
END:VEVENT
BEGIN:VEVENT
DTSTART;TZID=America/Chicago:20290822T100000
DTEND;TZID=America/Chicago:20290822T110000
DTSTAMP:20260420T002401
CREATED:20250806T202622Z
LAST-MODIFIED:20250806T202622Z
UID:10000208-1882087200-1882090800@ecumen.org
SUMMARY:Monthly Dementia Caregiver Support Group | The 4th Wednesday of Every Month from 10am-11am
DESCRIPTION:Where: Ecumen St. Benedict’s Community St. Cloud\nAddress: 1810 Minnesota Blvd. SE\, St. Cloud\, MN \nMonthly Dementia Caregiver Support Group — The 4th Wednesday of Every Month from 10am-11am.\nEcumen – St. Benedict’s Community is pleased to announce a new caregivers support group for those who are caring for loved ones with dementia. The group will discuss struggles along with success stories. There will also be an opportunity for presentations from agencies that may be of interest to the group. \nThis Dementia Caregiver Support Group is open to the public. \nRegister by contacting Melinda at: MelindaFast@ecumen.org | 320-203-2747\nSchedule a tour at your convenience by calling Melinda.
URL:https://ecumen.org/event/st-benedicts-community-st-cloud-monthly-dementia-caregiver-support-group-2025/2029-08-22/
LOCATION:St. Benedict’s Community — St. Cloud\, 1810 Minnesota Blvd.\, St. Cloud\, MN\, 56304\, United States
ATTACH;FMTTYPE=image/jpeg:https://ecumen.org/wp-content/uploads/2025/08/WEB-1920X1005_DementiaCaregiver-1.jpg
ORGANIZER;CN="Melinda Fast | Ecumen St. Benedict's Community St. Cloud":MAILTO:MelindaFast@ecumen.org
END:VEVENT
BEGIN:VEVENT
DTSTART;TZID=America/Chicago:20290926T100000
DTEND;TZID=America/Chicago:20290926T110000
DTSTAMP:20260420T002401
CREATED:20250806T202622Z
LAST-MODIFIED:20250806T202622Z
UID:10000209-1885111200-1885114800@ecumen.org
SUMMARY:Monthly Dementia Caregiver Support Group | The 4th Wednesday of Every Month from 10am-11am
DESCRIPTION:Where: Ecumen St. Benedict’s Community St. Cloud\nAddress: 1810 Minnesota Blvd. SE\, St. Cloud\, MN \nMonthly Dementia Caregiver Support Group — The 4th Wednesday of Every Month from 10am-11am.\nEcumen – St. Benedict’s Community is pleased to announce a new caregivers support group for those who are caring for loved ones with dementia. The group will discuss struggles along with success stories. There will also be an opportunity for presentations from agencies that may be of interest to the group. \nThis Dementia Caregiver Support Group is open to the public. \nRegister by contacting Melinda at: MelindaFast@ecumen.org | 320-203-2747\nSchedule a tour at your convenience by calling Melinda.
URL:https://ecumen.org/event/st-benedicts-community-st-cloud-monthly-dementia-caregiver-support-group-2025/2029-09-26/
LOCATION:St. Benedict’s Community — St. Cloud\, 1810 Minnesota Blvd.\, St. Cloud\, MN\, 56304\, United States
ATTACH;FMTTYPE=image/jpeg:https://ecumen.org/wp-content/uploads/2025/08/WEB-1920X1005_DementiaCaregiver-1.jpg
ORGANIZER;CN="Melinda Fast | Ecumen St. Benedict's Community St. Cloud":MAILTO:MelindaFast@ecumen.org
END:VEVENT
BEGIN:VEVENT
DTSTART;TZID=America/Chicago:20291024T100000
DTEND;TZID=America/Chicago:20291024T110000
DTSTAMP:20260420T002401
CREATED:20250806T202622Z
LAST-MODIFIED:20250806T202622Z
UID:10000210-1887530400-1887534000@ecumen.org
SUMMARY:Monthly Dementia Caregiver Support Group | The 4th Wednesday of Every Month from 10am-11am
DESCRIPTION:Where: Ecumen St. Benedict’s Community St. Cloud\nAddress: 1810 Minnesota Blvd. SE\, St. Cloud\, MN \nMonthly Dementia Caregiver Support Group — The 4th Wednesday of Every Month from 10am-11am.\nEcumen – St. Benedict’s Community is pleased to announce a new caregivers support group for those who are caring for loved ones with dementia. The group will discuss struggles along with success stories. There will also be an opportunity for presentations from agencies that may be of interest to the group. \nThis Dementia Caregiver Support Group is open to the public. \nRegister by contacting Melinda at: MelindaFast@ecumen.org | 320-203-2747\nSchedule a tour at your convenience by calling Melinda.
URL:https://ecumen.org/event/st-benedicts-community-st-cloud-monthly-dementia-caregiver-support-group-2025/2029-10-24/
LOCATION:St. Benedict’s Community — St. Cloud\, 1810 Minnesota Blvd.\, St. Cloud\, MN\, 56304\, United States
ATTACH;FMTTYPE=image/jpeg:https://ecumen.org/wp-content/uploads/2025/08/WEB-1920X1005_DementiaCaregiver-1.jpg
ORGANIZER;CN="Melinda Fast | Ecumen St. Benedict's Community St. Cloud":MAILTO:MelindaFast@ecumen.org
END:VEVENT
BEGIN:VEVENT
DTSTART;TZID=America/Chicago:20291128T100000
DTEND;TZID=America/Chicago:20291128T110000
DTSTAMP:20260420T002401
CREATED:20250806T202622Z
LAST-MODIFIED:20250806T202622Z
UID:10000211-1890554400-1890558000@ecumen.org
SUMMARY:Monthly Dementia Caregiver Support Group | The 4th Wednesday of Every Month from 10am-11am
DESCRIPTION:Where: Ecumen St. Benedict’s Community St. Cloud\nAddress: 1810 Minnesota Blvd. SE\, St. Cloud\, MN \nMonthly Dementia Caregiver Support Group — The 4th Wednesday of Every Month from 10am-11am.\nEcumen – St. Benedict’s Community is pleased to announce a new caregivers support group for those who are caring for loved ones with dementia. The group will discuss struggles along with success stories. There will also be an opportunity for presentations from agencies that may be of interest to the group. \nThis Dementia Caregiver Support Group is open to the public. \nRegister by contacting Melinda at: MelindaFast@ecumen.org | 320-203-2747\nSchedule a tour at your convenience by calling Melinda.
URL:https://ecumen.org/event/st-benedicts-community-st-cloud-monthly-dementia-caregiver-support-group-2025/2029-11-28/
LOCATION:St. Benedict’s Community — St. Cloud\, 1810 Minnesota Blvd.\, St. Cloud\, MN\, 56304\, United States
ATTACH;FMTTYPE=image/jpeg:https://ecumen.org/wp-content/uploads/2025/08/WEB-1920X1005_DementiaCaregiver-1.jpg
ORGANIZER;CN="Melinda Fast | Ecumen St. Benedict's Community St. Cloud":MAILTO:MelindaFast@ecumen.org
END:VEVENT
BEGIN:VEVENT
DTSTART;TZID=America/Chicago:20291226T100000
DTEND;TZID=America/Chicago:20291226T110000
DTSTAMP:20260420T002401
CREATED:20250806T202622Z
LAST-MODIFIED:20250806T202622Z
UID:10000212-1892973600-1892977200@ecumen.org
SUMMARY:Monthly Dementia Caregiver Support Group | The 4th Wednesday of Every Month from 10am-11am
DESCRIPTION:Where: Ecumen St. Benedict’s Community St. Cloud\nAddress: 1810 Minnesota Blvd. SE\, St. Cloud\, MN \nMonthly Dementia Caregiver Support Group — The 4th Wednesday of Every Month from 10am-11am.\nEcumen – St. Benedict’s Community is pleased to announce a new caregivers support group for those who are caring for loved ones with dementia. The group will discuss struggles along with success stories. There will also be an opportunity for presentations from agencies that may be of interest to the group. \nThis Dementia Caregiver Support Group is open to the public. \nRegister by contacting Melinda at: MelindaFast@ecumen.org | 320-203-2747\nSchedule a tour at your convenience by calling Melinda.
URL:https://ecumen.org/event/st-benedicts-community-st-cloud-monthly-dementia-caregiver-support-group-2025/2029-12-26/
LOCATION:St. Benedict’s Community — St. Cloud\, 1810 Minnesota Blvd.\, St. Cloud\, MN\, 56304\, United States
ATTACH;FMTTYPE=image/jpeg:https://ecumen.org/wp-content/uploads/2025/08/WEB-1920X1005_DementiaCaregiver-1.jpg
ORGANIZER;CN="Melinda Fast | Ecumen St. Benedict's Community St. Cloud":MAILTO:MelindaFast@ecumen.org
END:VEVENT
BEGIN:VEVENT
DTSTART;TZID=America/Chicago:20300123T100000
DTEND;TZID=America/Chicago:20300123T110000
DTSTAMP:20260420T002401
CREATED:20250806T202622Z
LAST-MODIFIED:20250806T202622Z
UID:10000213-1895392800-1895396400@ecumen.org
SUMMARY:Monthly Dementia Caregiver Support Group | The 4th Wednesday of Every Month from 10am-11am
DESCRIPTION:Where: Ecumen St. Benedict’s Community St. Cloud\nAddress: 1810 Minnesota Blvd. SE\, St. Cloud\, MN \nMonthly Dementia Caregiver Support Group — The 4th Wednesday of Every Month from 10am-11am.\nEcumen – St. Benedict’s Community is pleased to announce a new caregivers support group for those who are caring for loved ones with dementia. The group will discuss struggles along with success stories. There will also be an opportunity for presentations from agencies that may be of interest to the group. \nThis Dementia Caregiver Support Group is open to the public. \nRegister by contacting Melinda at: MelindaFast@ecumen.org | 320-203-2747\nSchedule a tour at your convenience by calling Melinda.
URL:https://ecumen.org/event/st-benedicts-community-st-cloud-monthly-dementia-caregiver-support-group-2025/2030-01-23/
LOCATION:St. Benedict’s Community — St. Cloud\, 1810 Minnesota Blvd.\, St. Cloud\, MN\, 56304\, United States
ATTACH;FMTTYPE=image/jpeg:https://ecumen.org/wp-content/uploads/2025/08/WEB-1920X1005_DementiaCaregiver-1.jpg
ORGANIZER;CN="Melinda Fast | Ecumen St. Benedict's Community St. Cloud":MAILTO:MelindaFast@ecumen.org
END:VEVENT
BEGIN:VEVENT
DTSTART;TZID=America/Chicago:20300227T100000
DTEND;TZID=America/Chicago:20300227T110000
DTSTAMP:20260420T002401
CREATED:20250806T202622Z
LAST-MODIFIED:20250806T202622Z
UID:10000214-1898416800-1898420400@ecumen.org
SUMMARY:Monthly Dementia Caregiver Support Group | The 4th Wednesday of Every Month from 10am-11am
DESCRIPTION:Where: Ecumen St. Benedict’s Community St. Cloud\nAddress: 1810 Minnesota Blvd. SE\, St. Cloud\, MN \nMonthly Dementia Caregiver Support Group — The 4th Wednesday of Every Month from 10am-11am.\nEcumen – St. Benedict’s Community is pleased to announce a new caregivers support group for those who are caring for loved ones with dementia. The group will discuss struggles along with success stories. There will also be an opportunity for presentations from agencies that may be of interest to the group. \nThis Dementia Caregiver Support Group is open to the public. \nRegister by contacting Melinda at: MelindaFast@ecumen.org | 320-203-2747\nSchedule a tour at your convenience by calling Melinda.
URL:https://ecumen.org/event/st-benedicts-community-st-cloud-monthly-dementia-caregiver-support-group-2025/2030-02-27/
LOCATION:St. Benedict’s Community — St. Cloud\, 1810 Minnesota Blvd.\, St. Cloud\, MN\, 56304\, United States
ATTACH;FMTTYPE=image/jpeg:https://ecumen.org/wp-content/uploads/2025/08/WEB-1920X1005_DementiaCaregiver-1.jpg
ORGANIZER;CN="Melinda Fast | Ecumen St. Benedict's Community St. Cloud":MAILTO:MelindaFast@ecumen.org
END:VEVENT
BEGIN:VEVENT
DTSTART;TZID=America/Chicago:20300327T100000
DTEND;TZID=America/Chicago:20300327T110000
DTSTAMP:20260420T002401
CREATED:20250806T202622Z
LAST-MODIFIED:20250806T202622Z
UID:10000215-1900836000-1900839600@ecumen.org
SUMMARY:Monthly Dementia Caregiver Support Group | The 4th Wednesday of Every Month from 10am-11am
DESCRIPTION:Where: Ecumen St. Benedict’s Community St. Cloud\nAddress: 1810 Minnesota Blvd. SE\, St. Cloud\, MN \nMonthly Dementia Caregiver Support Group — The 4th Wednesday of Every Month from 10am-11am.\nEcumen – St. Benedict’s Community is pleased to announce a new caregivers support group for those who are caring for loved ones with dementia. The group will discuss struggles along with success stories. There will also be an opportunity for presentations from agencies that may be of interest to the group. \nThis Dementia Caregiver Support Group is open to the public. \nRegister by contacting Melinda at: MelindaFast@ecumen.org | 320-203-2747\nSchedule a tour at your convenience by calling Melinda.
URL:https://ecumen.org/event/st-benedicts-community-st-cloud-monthly-dementia-caregiver-support-group-2025/2030-03-27/
LOCATION:St. Benedict’s Community — St. Cloud\, 1810 Minnesota Blvd.\, St. Cloud\, MN\, 56304\, United States
ATTACH;FMTTYPE=image/jpeg:https://ecumen.org/wp-content/uploads/2025/08/WEB-1920X1005_DementiaCaregiver-1.jpg
ORGANIZER;CN="Melinda Fast | Ecumen St. Benedict's Community St. Cloud":MAILTO:MelindaFast@ecumen.org
END:VEVENT
BEGIN:VEVENT
DTSTART;TZID=America/Chicago:20300424T100000
DTEND;TZID=America/Chicago:20300424T110000
DTSTAMP:20260420T002401
CREATED:20250806T202622Z
LAST-MODIFIED:20250806T202622Z
UID:10000216-1903255200-1903258800@ecumen.org
SUMMARY:Monthly Dementia Caregiver Support Group | The 4th Wednesday of Every Month from 10am-11am
DESCRIPTION:Where: Ecumen St. Benedict’s Community St. Cloud\nAddress: 1810 Minnesota Blvd. SE\, St. Cloud\, MN \nMonthly Dementia Caregiver Support Group — The 4th Wednesday of Every Month from 10am-11am.\nEcumen – St. Benedict’s Community is pleased to announce a new caregivers support group for those who are caring for loved ones with dementia. The group will discuss struggles along with success stories. There will also be an opportunity for presentations from agencies that may be of interest to the group. \nThis Dementia Caregiver Support Group is open to the public. \nRegister by contacting Melinda at: MelindaFast@ecumen.org | 320-203-2747\nSchedule a tour at your convenience by calling Melinda.
URL:https://ecumen.org/event/st-benedicts-community-st-cloud-monthly-dementia-caregiver-support-group-2025/2030-04-24/
LOCATION:St. Benedict’s Community — St. Cloud\, 1810 Minnesota Blvd.\, St. Cloud\, MN\, 56304\, United States
ATTACH;FMTTYPE=image/jpeg:https://ecumen.org/wp-content/uploads/2025/08/WEB-1920X1005_DementiaCaregiver-1.jpg
ORGANIZER;CN="Melinda Fast | Ecumen St. Benedict's Community St. Cloud":MAILTO:MelindaFast@ecumen.org
END:VEVENT
BEGIN:VEVENT
DTSTART;TZID=America/Chicago:20300522T100000
DTEND;TZID=America/Chicago:20300522T110000
DTSTAMP:20260420T002401
CREATED:20250806T202622Z
LAST-MODIFIED:20250806T202622Z
UID:10000217-1905674400-1905678000@ecumen.org
SUMMARY:Monthly Dementia Caregiver Support Group | The 4th Wednesday of Every Month from 10am-11am
DESCRIPTION:Where: Ecumen St. Benedict’s Community St. Cloud\nAddress: 1810 Minnesota Blvd. SE\, St. Cloud\, MN \nMonthly Dementia Caregiver Support Group — The 4th Wednesday of Every Month from 10am-11am.\nEcumen – St. Benedict’s Community is pleased to announce a new caregivers support group for those who are caring for loved ones with dementia. The group will discuss struggles along with success stories. There will also be an opportunity for presentations from agencies that may be of interest to the group. \nThis Dementia Caregiver Support Group is open to the public. \nRegister by contacting Melinda at: MelindaFast@ecumen.org | 320-203-2747\nSchedule a tour at your convenience by calling Melinda.
URL:https://ecumen.org/event/st-benedicts-community-st-cloud-monthly-dementia-caregiver-support-group-2025/2030-05-22/
LOCATION:St. Benedict’s Community — St. Cloud\, 1810 Minnesota Blvd.\, St. Cloud\, MN\, 56304\, United States
ATTACH;FMTTYPE=image/jpeg:https://ecumen.org/wp-content/uploads/2025/08/WEB-1920X1005_DementiaCaregiver-1.jpg
ORGANIZER;CN="Melinda Fast | Ecumen St. Benedict's Community St. Cloud":MAILTO:MelindaFast@ecumen.org
END:VEVENT
BEGIN:VEVENT
DTSTART;TZID=America/Chicago:20300626T100000
DTEND;TZID=America/Chicago:20300626T110000
DTSTAMP:20260420T002401
CREATED:20250806T202622Z
LAST-MODIFIED:20250806T202622Z
UID:10000218-1908698400-1908702000@ecumen.org
SUMMARY:Monthly Dementia Caregiver Support Group | The 4th Wednesday of Every Month from 10am-11am
DESCRIPTION:Where: Ecumen St. Benedict’s Community St. Cloud\nAddress: 1810 Minnesota Blvd. SE\, St. Cloud\, MN \nMonthly Dementia Caregiver Support Group — The 4th Wednesday of Every Month from 10am-11am.\nEcumen – St. Benedict’s Community is pleased to announce a new caregivers support group for those who are caring for loved ones with dementia. The group will discuss struggles along with success stories. There will also be an opportunity for presentations from agencies that may be of interest to the group. \nThis Dementia Caregiver Support Group is open to the public. \nRegister by contacting Melinda at: MelindaFast@ecumen.org | 320-203-2747\nSchedule a tour at your convenience by calling Melinda.
URL:https://ecumen.org/event/st-benedicts-community-st-cloud-monthly-dementia-caregiver-support-group-2025/2030-06-26/
LOCATION:St. Benedict’s Community — St. Cloud\, 1810 Minnesota Blvd.\, St. Cloud\, MN\, 56304\, United States
ATTACH;FMTTYPE=image/jpeg:https://ecumen.org/wp-content/uploads/2025/08/WEB-1920X1005_DementiaCaregiver-1.jpg
ORGANIZER;CN="Melinda Fast | Ecumen St. Benedict's Community St. Cloud":MAILTO:MelindaFast@ecumen.org
END:VEVENT
BEGIN:VEVENT
DTSTART;TZID=America/Chicago:20300724T100000
DTEND;TZID=America/Chicago:20300724T110000
DTSTAMP:20260420T002401
CREATED:20250806T202622Z
LAST-MODIFIED:20250806T202622Z
UID:10000219-1911117600-1911121200@ecumen.org
SUMMARY:Monthly Dementia Caregiver Support Group | The 4th Wednesday of Every Month from 10am-11am
DESCRIPTION:Where: Ecumen St. Benedict’s Community St. Cloud\nAddress: 1810 Minnesota Blvd. SE\, St. Cloud\, MN \nMonthly Dementia Caregiver Support Group — The 4th Wednesday of Every Month from 10am-11am.\nEcumen – St. Benedict’s Community is pleased to announce a new caregivers support group for those who are caring for loved ones with dementia. The group will discuss struggles along with success stories. There will also be an opportunity for presentations from agencies that may be of interest to the group. \nThis Dementia Caregiver Support Group is open to the public. \nRegister by contacting Melinda at: MelindaFast@ecumen.org | 320-203-2747\nSchedule a tour at your convenience by calling Melinda.
URL:https://ecumen.org/event/st-benedicts-community-st-cloud-monthly-dementia-caregiver-support-group-2025/2030-07-24/
LOCATION:St. Benedict’s Community — St. Cloud\, 1810 Minnesota Blvd.\, St. Cloud\, MN\, 56304\, United States
ATTACH;FMTTYPE=image/jpeg:https://ecumen.org/wp-content/uploads/2025/08/WEB-1920X1005_DementiaCaregiver-1.jpg
ORGANIZER;CN="Melinda Fast | Ecumen St. Benedict's Community St. Cloud":MAILTO:MelindaFast@ecumen.org
END:VEVENT
END:VCALENDAR