BEGIN:VCALENDAR
VERSION:2.0
PRODID:-//Ecumen - ECPv6.15.20//NONSGML v1.0//EN
CALSCALE:GREGORIAN
METHOD:PUBLISH
X-ORIGINAL-URL:https://ecumen.org
X-WR-CALDESC:Events for Ecumen
REFRESH-INTERVAL;VALUE=DURATION:PT1H
X-Robots-Tag:noindex
X-PUBLISHED-TTL:PT1H
BEGIN:VTIMEZONE
TZID:America/New_York
BEGIN:DAYLIGHT
TZOFFSETFROM:-0500
TZOFFSETTO:-0400
TZNAME:EDT
DTSTART:20250309T070000
END:DAYLIGHT
BEGIN:STANDARD
TZOFFSETFROM:-0400
TZOFFSETTO:-0500
TZNAME:EST
DTSTART:20251102T060000
END:STANDARD
BEGIN:DAYLIGHT
TZOFFSETFROM:-0500
TZOFFSETTO:-0400
TZNAME:EDT
DTSTART:20260308T070000
END:DAYLIGHT
BEGIN:STANDARD
TZOFFSETFROM:-0400
TZOFFSETTO:-0500
TZNAME:EST
DTSTART:20261101T060000
END:STANDARD
BEGIN:DAYLIGHT
TZOFFSETFROM:-0500
TZOFFSETTO:-0400
TZNAME:EDT
DTSTART:20270314T070000
END:DAYLIGHT
BEGIN:STANDARD
TZOFFSETFROM:-0400
TZOFFSETTO:-0500
TZNAME:EST
DTSTART:20271107T060000
END:STANDARD
END:VTIMEZONE
BEGIN:VEVENT
DTSTART;TZID=America/New_York:20260611T180000
DTEND;TZID=America/New_York:20260611T190000
DTSTAMP:20260422T182554
CREATED:20260330T145810Z
LAST-MODIFIED:20260330T152117Z
UID:10000544-1781200800-1781204400@ecumen.org
SUMMARY:June 11 at 6pm | Positive Approaches to Behaviors Related to Dementia — Learning & Living Well With Dementia Series: Session 3
DESCRIPTION:[vc_row][vc_column][vc_column_text uncode_shortcode_id=”674406″]When: June 11th\, 2026 from 6:00pm – 7:00pm\nWhere: Ecumen Lakeview Commons\nAddress: 1200 Lakewood Dr N\, Maplewood\, MN 55119 \nPositive Approaches to Behaviors Related to Dementia (session 3 of the Learning & Living Well With Dementia event series)*\nLearn about behavior changes and practical strategies to respond positively\, reduce challenging behaviors\, and support safer\, less stressful caregiving. \nAbout the Speaker — Valerie J. Richards\, MBA\, Alzheimer’s Educator & Family Coach:\nValerie J. Richards\, MBA\, empowers caregivers and families to live well through dementia\, aging\, and end-of-life transitions. Learn more about Valerie at familieswithdementia.com \nRSVP appreciated as space is limited: christopherlarson@ecumen.org | 612-430-1412[/vc_column_text][vc_separator sep_color=”” uncode_shortcode_id=”627418″][vc_column_text uncode_shortcode_id=”157676″]*Learning & Living Well With Dementia is an event series brought to you by Ecumen Lakeview Commons & Ecumen Seasons at Maplewood\, presented by Valerie J. Richards\, Alzheimer’s Educator & Family Coach.  \nView all events in this series here:  \n\nSession 1 (April 16): Caring\, Coping & Community  — at Ecumen Lakeview Commons\nSession 2 (May 13): Effective & Encouraging Communication with Dementia — at Ecumen Seasons at Maplewood\nSession 3 (June 11): Positive Approaches to Behaviors Related to Dementia — at Ecumen Lakeview Commons\nSession 4 (July 15): Managing Stress\, Making Joy & Finding Meaning — at Ecumen Seasons at Maplewood\n\n\n[/vc_column_text][/vc_column][/vc_row]
URL:https://ecumen.org/event/positive-approaches-to-behaviors-related-to-dementia-learning-living-well-with-dementia-series-session3-06-11-2026/
LOCATION:Ecumen Lakeview Commons\, 1200 Lakewood Drive\, Maplewood\, 55119\, United States
ATTACH;FMTTYPE=image/jpeg:https://ecumen.org/wp-content/uploads/2026/03/3483-260312-Dementia-Series_Web_SAM_1920-x-1005-scaled.jpg
ORGANIZER;CN="Chris Larson":MAILTO:ChristopherLarson@ecumen.org
END:VEVENT
END:VCALENDAR