BEGIN:VCALENDAR
VERSION:2.0
PRODID:-//Ecumen - ECPv6.15.20//NONSGML v1.0//EN
CALSCALE:GREGORIAN
METHOD:PUBLISH
X-ORIGINAL-URL:https://ecumen.org
X-WR-CALDESC:Events for Ecumen
REFRESH-INTERVAL;VALUE=DURATION:PT1H
X-Robots-Tag:noindex
X-PUBLISHED-TTL:PT1H
BEGIN:VTIMEZONE
TZID:UTC
BEGIN:STANDARD
TZOFFSETFROM:+0000
TZOFFSETTO:+0000
TZNAME:UTC
DTSTART:20230101T000000
END:STANDARD
END:VTIMEZONE
BEGIN:VEVENT
DTSTART;TZID=UTC:20240924T140000
DTEND;TZID=UTC:20240924T160000
DTSTAMP:20260423T125344
CREATED:20240816T204223Z
LAST-MODIFIED:20240816T204425Z
UID:10000021-1727186400-1727193600@ecumen.org
SUMMARY:DEDICATION OF ECUMEN ST. BENEDICT'S COMMUNITIES | Sept. 24th from 2pm-4pm
DESCRIPTION:[vc_row][vc_column width=”1/1″][vc_column_text]Where: Ecumen St. Benedict’s Community — St. Cloud\nAddress: 1810 Minnesota Blvd\, St Cloud\, MN 56304 \nEvent Description: Dedication of Ecumen St. Benedict’s Communities — Sept. 24th from 2pm-4pm.\nJoin us as we celebrate the dedication of St. Benedict’s Communities to Ecumen. Together we will honor the legacy of compassionate care and services and celebrate our mission to provide innovative services of connected\, fulfilled lives.* \n2:00 PM – 2:30 PM | Dedication Ceremony \n2:30 PM – 4:00 PM | Open house with tours\, music\, light refreshments\, and fellowship \nWe look forward to celebrating with you! \n*Parking is available in the parking lot across the street from the entrance. \n[/vc_column_text][/vc_column][/vc_row]
URL:https://ecumen.org/event/dedication-of-ecumen-st-benedicts-communities-09-24-2024/
LOCATION:St. Benedict’s Community — St. Cloud\, 1810 Minnesota Blvd.\, St. Cloud\, MN\, 56304\, United States
ATTACH;FMTTYPE=image/jpeg:https://ecumen.org/wp-content/uploads/2024/08/ECU-SBC_DedicationInvite_FB-img-1200x630-240924-scaled.jpg
ORGANIZER;CN="SBC - St. Cloud":MAILTO:SBCStCloudInfo@ecumen.org
END:VEVENT
END:VCALENDAR