BEGIN:VCALENDAR
VERSION:2.0
PRODID:-//Ecumen - ECPv6.15.20//NONSGML v1.0//EN
CALSCALE:GREGORIAN
METHOD:PUBLISH
X-ORIGINAL-URL:https://ecumen.org
X-WR-CALDESC:Events for Ecumen
REFRESH-INTERVAL;VALUE=DURATION:PT1H
X-Robots-Tag:noindex
X-PUBLISHED-TTL:PT1H
BEGIN:VTIMEZONE
TZID:UTC
BEGIN:STANDARD
TZOFFSETFROM:+0000
TZOFFSETTO:+0000
TZNAME:UTC
DTSTART:20230101T000000
END:STANDARD
END:VTIMEZONE
BEGIN:VEVENT
DTSTART;TZID=UTC:20240801T100000
DTEND;TZID=UTC:20240801T110000
DTSTAMP:20260423T181357
CREATED:20240718T012412Z
LAST-MODIFIED:20240718T012412Z
UID:10000020-1722506400-1722510000@ecumen.org
SUMMARY:ST. BENEDICT'S COMMUNITY - MONTICELLO | Walking Trail Celebration & Ribbon Cutting | Aug. 1st at 10am
DESCRIPTION:[vc_row][vc_column width=”1/1″][vc_column_text]Where: Ecumen St. Benedict’s Community — Monticello\nAddress: 1301 E Seventh St. | Monticello\, MN \nEvent Description: Walking Trail Celebration & Ribbon Cutting — Aug. 1st at 10am.\nJoin us Thursday\, Aug. 1st at 10:00am for a ribbon cutting as we celebrate our upgraded walking trail. We will have a short program with refreshments and an opportunity to walk the trail together. All are welcome to join us for Mass at 11 AM proceeding the event. \nWe look forward to celebrating with you! \n*Support for this project was made possible by generous donors to the community. \nQuestions? Contact us at: 763-295-4051 or sbcmonticelloinfo@ecumen.org. \nClick here to learn more. \n[/vc_column_text][/vc_column][/vc_row]
URL:https://ecumen.org/event/sbc-monticello-walking-trail-celebration-ribbon-cutting-08-01-2024/
LOCATION:St. Benedict’s Community – Monticello\, 1301 E. Seventh Street\, Monticello\, MN\, 55362\, United States
ATTACH;FMTTYPE=image/jpeg:https://ecumen.org/wp-content/uploads/2024/07/ECU-SBCMont_FB-img-1200x630_WalkingTrail-240801-scaled.jpg
ORGANIZER;CN="SBC-Monticello":MAILTO:sbcmonticelloinfo@ecumen.org
END:VEVENT
END:VCALENDAR