BEGIN:VCALENDAR
VERSION:2.0
PRODID:-//Ecumen - ECPv6.15.20//NONSGML v1.0//EN
CALSCALE:GREGORIAN
METHOD:PUBLISH
X-ORIGINAL-URL:https://ecumen.org
X-WR-CALDESC:Events for Ecumen
REFRESH-INTERVAL;VALUE=DURATION:PT1H
X-Robots-Tag:noindex
X-PUBLISHED-TTL:PT1H
BEGIN:VTIMEZONE
TZID:America/Chicago
BEGIN:DAYLIGHT
TZOFFSETFROM:-0600
TZOFFSETTO:-0500
TZNAME:CDT
DTSTART:20230312T080000
END:DAYLIGHT
BEGIN:STANDARD
TZOFFSETFROM:-0500
TZOFFSETTO:-0600
TZNAME:CST
DTSTART:20231105T070000
END:STANDARD
BEGIN:DAYLIGHT
TZOFFSETFROM:-0600
TZOFFSETTO:-0500
TZNAME:CDT
DTSTART:20240310T080000
END:DAYLIGHT
BEGIN:STANDARD
TZOFFSETFROM:-0500
TZOFFSETTO:-0600
TZNAME:CST
DTSTART:20241103T070000
END:STANDARD
BEGIN:DAYLIGHT
TZOFFSETFROM:-0600
TZOFFSETTO:-0500
TZNAME:CDT
DTSTART:20250309T080000
END:DAYLIGHT
BEGIN:STANDARD
TZOFFSETFROM:-0500
TZOFFSETTO:-0600
TZNAME:CST
DTSTART:20251102T070000
END:STANDARD
BEGIN:DAYLIGHT
TZOFFSETFROM:-0600
TZOFFSETTO:-0500
TZNAME:CDT
DTSTART:20260308T080000
END:DAYLIGHT
BEGIN:STANDARD
TZOFFSETFROM:-0500
TZOFFSETTO:-0600
TZNAME:CST
DTSTART:20261101T070000
END:STANDARD
BEGIN:DAYLIGHT
TZOFFSETFROM:-0600
TZOFFSETTO:-0500
TZNAME:CDT
DTSTART:20270314T080000
END:DAYLIGHT
BEGIN:STANDARD
TZOFFSETFROM:-0500
TZOFFSETTO:-0600
TZNAME:CST
DTSTART:20271107T070000
END:STANDARD
END:VTIMEZONE
BEGIN:VEVENT
DTSTART;TZID=America/Chicago:20260325T100000
DTEND;TZID=America/Chicago:20260325T110000
DTSTAMP:20260419T204624
CREATED:20250806T202622Z
LAST-MODIFIED:20250806T202622Z
UID:10000167-1774432800-1774436400@ecumen.org
SUMMARY:Monthly Dementia Caregiver Support Group | The 4th Wednesday of Every Month from 10am-11am
DESCRIPTION:Where: Ecumen St. Benedict’s Community St. Cloud\nAddress: 1810 Minnesota Blvd. SE\, St. Cloud\, MN \nMonthly Dementia Caregiver Support Group — The 4th Wednesday of Every Month from 10am-11am.\nEcumen – St. Benedict’s Community is pleased to announce a new caregivers support group for those who are caring for loved ones with dementia. The group will discuss struggles along with success stories. There will also be an opportunity for presentations from agencies that may be of interest to the group. \nThis Dementia Caregiver Support Group is open to the public. \nRegister by contacting Melinda at: MelindaFast@ecumen.org | 320-203-2747\nSchedule a tour at your convenience by calling Melinda.
URL:https://ecumen.org/event/st-benedicts-community-st-cloud-monthly-dementia-caregiver-support-group-2025/2026-03-25/
LOCATION:St. Benedict’s Community — St. Cloud\, 1810 Minnesota Blvd.\, St. Cloud\, MN\, 56304\, United States
ATTACH;FMTTYPE=image/jpeg:https://ecumen.org/wp-content/uploads/2025/08/WEB-1920X1005_DementiaCaregiver-1.jpg
ORGANIZER;CN="Melinda Fast | Ecumen St. Benedict's Community St. Cloud":MAILTO:MelindaFast@ecumen.org
END:VEVENT
BEGIN:VEVENT
DTSTART;TZID=America/Chicago:20260225T100000
DTEND;TZID=America/Chicago:20260225T110000
DTSTAMP:20260419T204624
CREATED:20250806T202622Z
LAST-MODIFIED:20250806T202622Z
UID:10000166-1772013600-1772017200@ecumen.org
SUMMARY:Monthly Dementia Caregiver Support Group | The 4th Wednesday of Every Month from 10am-11am
DESCRIPTION:Where: Ecumen St. Benedict’s Community St. Cloud\nAddress: 1810 Minnesota Blvd. SE\, St. Cloud\, MN \nMonthly Dementia Caregiver Support Group — The 4th Wednesday of Every Month from 10am-11am.\nEcumen – St. Benedict’s Community is pleased to announce a new caregivers support group for those who are caring for loved ones with dementia. The group will discuss struggles along with success stories. There will also be an opportunity for presentations from agencies that may be of interest to the group. \nThis Dementia Caregiver Support Group is open to the public. \nRegister by contacting Melinda at: MelindaFast@ecumen.org | 320-203-2747\nSchedule a tour at your convenience by calling Melinda.
URL:https://ecumen.org/event/st-benedicts-community-st-cloud-monthly-dementia-caregiver-support-group-2025/2026-02-25/
LOCATION:St. Benedict’s Community — St. Cloud\, 1810 Minnesota Blvd.\, St. Cloud\, MN\, 56304\, United States
ATTACH;FMTTYPE=image/jpeg:https://ecumen.org/wp-content/uploads/2025/08/WEB-1920X1005_DementiaCaregiver-1.jpg
ORGANIZER;CN="Melinda Fast | Ecumen St. Benedict's Community St. Cloud":MAILTO:MelindaFast@ecumen.org
END:VEVENT
BEGIN:VEVENT
DTSTART;TZID=America/Chicago:20260128T100000
DTEND;TZID=America/Chicago:20260128T110000
DTSTAMP:20260419T204624
CREATED:20250806T202622Z
LAST-MODIFIED:20250806T202622Z
UID:10000165-1769594400-1769598000@ecumen.org
SUMMARY:Monthly Dementia Caregiver Support Group | The 4th Wednesday of Every Month from 10am-11am
DESCRIPTION:Where: Ecumen St. Benedict’s Community St. Cloud\nAddress: 1810 Minnesota Blvd. SE\, St. Cloud\, MN \nMonthly Dementia Caregiver Support Group — The 4th Wednesday of Every Month from 10am-11am.\nEcumen – St. Benedict’s Community is pleased to announce a new caregivers support group for those who are caring for loved ones with dementia. The group will discuss struggles along with success stories. There will also be an opportunity for presentations from agencies that may be of interest to the group. \nThis Dementia Caregiver Support Group is open to the public. \nRegister by contacting Melinda at: MelindaFast@ecumen.org | 320-203-2747\nSchedule a tour at your convenience by calling Melinda.
URL:https://ecumen.org/event/st-benedicts-community-st-cloud-monthly-dementia-caregiver-support-group-2025/2026-01-28/
LOCATION:St. Benedict’s Community — St. Cloud\, 1810 Minnesota Blvd.\, St. Cloud\, MN\, 56304\, United States
ATTACH;FMTTYPE=image/jpeg:https://ecumen.org/wp-content/uploads/2025/08/WEB-1920X1005_DementiaCaregiver-1.jpg
ORGANIZER;CN="Melinda Fast | Ecumen St. Benedict's Community St. Cloud":MAILTO:MelindaFast@ecumen.org
END:VEVENT
BEGIN:VEVENT
DTSTART;TZID=America/Chicago:20251224T100000
DTEND;TZID=America/Chicago:20251224T110000
DTSTAMP:20260419T204624
CREATED:20250806T202622Z
LAST-MODIFIED:20250806T202622Z
UID:10000164-1766570400-1766574000@ecumen.org
SUMMARY:Monthly Dementia Caregiver Support Group | The 4th Wednesday of Every Month from 10am-11am
DESCRIPTION:Where: Ecumen St. Benedict’s Community St. Cloud\nAddress: 1810 Minnesota Blvd. SE\, St. Cloud\, MN \nMonthly Dementia Caregiver Support Group — The 4th Wednesday of Every Month from 10am-11am.\nEcumen – St. Benedict’s Community is pleased to announce a new caregivers support group for those who are caring for loved ones with dementia. The group will discuss struggles along with success stories. There will also be an opportunity for presentations from agencies that may be of interest to the group. \nThis Dementia Caregiver Support Group is open to the public. \nRegister by contacting Melinda at: MelindaFast@ecumen.org | 320-203-2747\nSchedule a tour at your convenience by calling Melinda.
URL:https://ecumen.org/event/st-benedicts-community-st-cloud-monthly-dementia-caregiver-support-group-2025/2025-12-24/
LOCATION:St. Benedict’s Community — St. Cloud\, 1810 Minnesota Blvd.\, St. Cloud\, MN\, 56304\, United States
ATTACH;FMTTYPE=image/jpeg:https://ecumen.org/wp-content/uploads/2025/08/WEB-1920X1005_DementiaCaregiver-1.jpg
ORGANIZER;CN="Melinda Fast | Ecumen St. Benedict's Community St. Cloud":MAILTO:MelindaFast@ecumen.org
END:VEVENT
BEGIN:VEVENT
DTSTART;TZID=America/Chicago:20251126T100000
DTEND;TZID=America/Chicago:20251126T110000
DTSTAMP:20260419T204624
CREATED:20250806T202622Z
LAST-MODIFIED:20250806T202622Z
UID:10000163-1764151200-1764154800@ecumen.org
SUMMARY:Monthly Dementia Caregiver Support Group | The 4th Wednesday of Every Month from 10am-11am
DESCRIPTION:Where: Ecumen St. Benedict’s Community St. Cloud\nAddress: 1810 Minnesota Blvd. SE\, St. Cloud\, MN \nMonthly Dementia Caregiver Support Group — The 4th Wednesday of Every Month from 10am-11am.\nEcumen – St. Benedict’s Community is pleased to announce a new caregivers support group for those who are caring for loved ones with dementia. The group will discuss struggles along with success stories. There will also be an opportunity for presentations from agencies that may be of interest to the group. \nThis Dementia Caregiver Support Group is open to the public. \nRegister by contacting Melinda at: MelindaFast@ecumen.org | 320-203-2747\nSchedule a tour at your convenience by calling Melinda.
URL:https://ecumen.org/event/st-benedicts-community-st-cloud-monthly-dementia-caregiver-support-group-2025/2025-11-26/
LOCATION:St. Benedict’s Community — St. Cloud\, 1810 Minnesota Blvd.\, St. Cloud\, MN\, 56304\, United States
ATTACH;FMTTYPE=image/jpeg:https://ecumen.org/wp-content/uploads/2025/08/WEB-1920X1005_DementiaCaregiver-1.jpg
ORGANIZER;CN="Melinda Fast | Ecumen St. Benedict's Community St. Cloud":MAILTO:MelindaFast@ecumen.org
END:VEVENT
BEGIN:VEVENT
DTSTART;TZID=America/Chicago:20251022T100000
DTEND;TZID=America/Chicago:20251022T110000
DTSTAMP:20260419T204624
CREATED:20250806T202622Z
LAST-MODIFIED:20250806T202622Z
UID:10000162-1761127200-1761130800@ecumen.org
SUMMARY:Monthly Dementia Caregiver Support Group | The 4th Wednesday of Every Month from 10am-11am
DESCRIPTION:Where: Ecumen St. Benedict’s Community St. Cloud\nAddress: 1810 Minnesota Blvd. SE\, St. Cloud\, MN \nMonthly Dementia Caregiver Support Group — The 4th Wednesday of Every Month from 10am-11am.\nEcumen – St. Benedict’s Community is pleased to announce a new caregivers support group for those who are caring for loved ones with dementia. The group will discuss struggles along with success stories. There will also be an opportunity for presentations from agencies that may be of interest to the group. \nThis Dementia Caregiver Support Group is open to the public. \nRegister by contacting Melinda at: MelindaFast@ecumen.org | 320-203-2747\nSchedule a tour at your convenience by calling Melinda.
URL:https://ecumen.org/event/st-benedicts-community-st-cloud-monthly-dementia-caregiver-support-group-2025/2025-10-22/
LOCATION:St. Benedict’s Community — St. Cloud\, 1810 Minnesota Blvd.\, St. Cloud\, MN\, 56304\, United States
ATTACH;FMTTYPE=image/jpeg:https://ecumen.org/wp-content/uploads/2025/08/WEB-1920X1005_DementiaCaregiver-1.jpg
ORGANIZER;CN="Melinda Fast | Ecumen St. Benedict's Community St. Cloud":MAILTO:MelindaFast@ecumen.org
END:VEVENT
BEGIN:VEVENT
DTSTART;TZID=America/Chicago:20250924T100000
DTEND;TZID=America/Chicago:20250924T110000
DTSTAMP:20260419T204624
CREATED:20250806T202622Z
LAST-MODIFIED:20250806T202622Z
UID:10000161-1758708000-1758711600@ecumen.org
SUMMARY:Monthly Dementia Caregiver Support Group | The 4th Wednesday of Every Month from 10am-11am
DESCRIPTION:Where: Ecumen St. Benedict’s Community St. Cloud\nAddress: 1810 Minnesota Blvd. SE\, St. Cloud\, MN \nMonthly Dementia Caregiver Support Group — The 4th Wednesday of Every Month from 10am-11am.\nEcumen – St. Benedict’s Community is pleased to announce a new caregivers support group for those who are caring for loved ones with dementia. The group will discuss struggles along with success stories. There will also be an opportunity for presentations from agencies that may be of interest to the group. \nThis Dementia Caregiver Support Group is open to the public. \nRegister by contacting Melinda at: MelindaFast@ecumen.org | 320-203-2747\nSchedule a tour at your convenience by calling Melinda.
URL:https://ecumen.org/event/st-benedicts-community-st-cloud-monthly-dementia-caregiver-support-group-2025/2025-09-24/
LOCATION:St. Benedict’s Community — St. Cloud\, 1810 Minnesota Blvd.\, St. Cloud\, MN\, 56304\, United States
ATTACH;FMTTYPE=image/jpeg:https://ecumen.org/wp-content/uploads/2025/08/WEB-1920X1005_DementiaCaregiver-1.jpg
ORGANIZER;CN="Melinda Fast | Ecumen St. Benedict's Community St. Cloud":MAILTO:MelindaFast@ecumen.org
END:VEVENT
BEGIN:VEVENT
DTSTART;TZID=America/Chicago:20250827T100000
DTEND;TZID=America/Chicago:20250827T110000
DTSTAMP:20260419T204624
CREATED:20250806T202622Z
LAST-MODIFIED:20250806T202622Z
UID:10000160-1756288800-1756292400@ecumen.org
SUMMARY:Monthly Dementia Caregiver Support Group | The 4th Wednesday of Every Month from 10am-11am
DESCRIPTION:Where: Ecumen St. Benedict’s Community St. Cloud\nAddress: 1810 Minnesota Blvd. SE\, St. Cloud\, MN \nMonthly Dementia Caregiver Support Group — The 4th Wednesday of Every Month from 10am-11am.\nEcumen – St. Benedict’s Community is pleased to announce a new caregivers support group for those who are caring for loved ones with dementia. The group will discuss struggles along with success stories. There will also be an opportunity for presentations from agencies that may be of interest to the group. \nThis Dementia Caregiver Support Group is open to the public. \nRegister by contacting Melinda at: MelindaFast@ecumen.org | 320-203-2747\nSchedule a tour at your convenience by calling Melinda.
URL:https://ecumen.org/event/st-benedicts-community-st-cloud-monthly-dementia-caregiver-support-group-2025/2025-08-27/
LOCATION:St. Benedict’s Community — St. Cloud\, 1810 Minnesota Blvd.\, St. Cloud\, MN\, 56304\, United States
ATTACH;FMTTYPE=image/jpeg:https://ecumen.org/wp-content/uploads/2025/08/WEB-1920X1005_DementiaCaregiver-1.jpg
ORGANIZER;CN="Melinda Fast | Ecumen St. Benedict's Community St. Cloud":MAILTO:MelindaFast@ecumen.org
END:VEVENT
BEGIN:VEVENT
DTSTART;TZID=America/Chicago:20250709T140000
DTEND;TZID=America/Chicago:20250709T150000
DTSTAMP:20260419T204624
CREATED:20250604T192719Z
LAST-MODIFIED:20250604T192719Z
UID:10000038-1752069600-1752073200@ecumen.org
SUMMARY:Advanced Care Planning | Wednesday\, July 9th at 2pm
DESCRIPTION:[vc_row][vc_column width=”1/1″][vc_column_text]Where: Ecumen St. Benedict’s Community St. Cloud\nAddress: 2000 15th Ave. SE\, St Cloud\, MN 56304 \nSoftening the Scaries of Health Care Directives — Advanced Care Planning | July 9th from 2pm-3pm.\nJoin us for an informative and empowering session on Advanced Care Planning presented by Lori Braegelman\, Program Manger with the Advanced Care Planning team at CentraCare. \nAdvanced Care Planning is a vital process that ensures your healthcare wishes are known and respected. Whether you’re just starting to think about your options or ready to complete important documents like advance directives or a living will\, this event will provide the guidance\, tools\, and support you need. \nQuestions? Contact Melinda at: MelindaFast@ecumen.org | 320-203-2747\nSchedule a tour at your convenience by calling Melinda. \n[/vc_column_text][/vc_column][/vc_row]
URL:https://ecumen.org/event/advanced-care-planning-wednesday-july-9th-at-2pm/
LOCATION:St. Benedict’s Village Independent Living at Ecumen St. Benedict’s Community St. Cloud\, 2000 15th Ave. SE\, St. Cloud\, 56304\, United States
ATTACH;FMTTYPE=image/jpeg:https://ecumen.org/wp-content/uploads/2025/06/WEB-1920X1005_HealthCareDirectives.jpg
ORGANIZER;CN="Melinda Fast | Ecumen St. Benedict's Community St. Cloud":MAILTO:MelindaFast@ecumen.org
END:VEVENT
BEGIN:VEVENT
DTSTART;TZID=America/Chicago:20250227T140000
DTEND;TZID=America/Chicago:20250227T150000
DTSTAMP:20260419T204624
CREATED:20250213T032719Z
LAST-MODIFIED:20250213T033038Z
UID:10000031-1740664800-1740668400@ecumen.org
SUMMARY:St. Benedict's Community — St. Cloud | Pre-Planning the Celebration of Your Life | Feb. 27th at 2pm
DESCRIPTION:[vc_row][vc_column width=”1/1″][vc_column_text]Where: Ecumen St. Benedict’s Community St. Cloud\nAddress: 2000 15th Ave. SE\, St Cloud\, MN 56304 \nEvent Description: Pre-Planning the Celebration of Your Life — Feb. 27th from 2pm-3pm.\nJoin James Neppl\, Pre-planning Consultant and Chaplain from Williams Dingmann Family Funeral Homes\, in a conversation about pre-planning your end-of-life celebration. We’ll cover a number of topics related to planning your own funeral in a way that is meaningful and honoring to you. \nPre-planning is a gift to your children and extended family\, so you don’t want to miss this. \nQuestions? Contact Melinda at: MelindaFast@ecumen.org | 320-203-2747\nSchedule a tour at your convenience by calling Melinda. \n[/vc_column_text][/vc_column][/vc_row]
URL:https://ecumen.org/event/st-benedicts-community-st-cloud-pre-planning-the-celebration-of-your-life-feb-27th-at-2pm/
LOCATION:St. Benedict’s Village Independent Living at Ecumen St. Benedict’s Community St. Cloud\, 2000 15th Ave. SE\, St. Cloud\, 56304\, United States
ATTACH;FMTTYPE=image/jpeg:https://ecumen.org/wp-content/uploads/2025/02/WEB-1920X1005_PlanCelebrationLife.jpg
ORGANIZER;CN="Melinda Fast | Ecumen St. Benedict's Community St. Cloud":MAILTO:MelindaFast@ecumen.org
END:VEVENT
BEGIN:VEVENT
DTSTART;TZID=America/Chicago:20241214T130000
DTEND;TZID=America/Chicago:20241214T150000
DTSTAMP:20260419T204624
CREATED:20241127T014509Z
LAST-MODIFIED:20241127T022835Z
UID:10000029-1734181200-1734188400@ecumen.org
SUMMARY:St. Benedict's Community — St. Cloud | Christmas with Santa Claus | Dec. 14th at 1pm
DESCRIPTION:[vc_row][vc_column width=”1/1″][vc_column_text]Where: Ecumen St. Benedict’s Community St. Cloud (in the Bonn Great Room)\nAddress: 1810 Minnesota Blvd\, St Cloud\, MN 56304 \nEvent Description: Christmas with Santa Claus — Dec. 14th from 1pm-3pm.\nThere are no rules on Christmas – anyone can feel childlike wonder no matter their age. That’s why we’re inviting you\, the kids\, and the grandkids to Ecumen St. Benedict Community – St. Cloud for an afternoon filled with fun festivities. \nSanta Claus will be taking time out of his busy North Pole schedule to take photos\, and there will be holiday activities galore. Enjoy treats and mingle with fellow guests and the St. Benedict’s team as we celebrate the holiday season together. \nThis event is open to the public — all ages are welcome! \nQuestions? Contact Melinda at: MelindaFast@ecumen.org | 320-203-2747\nSchedule a tour at your convenience by calling Melinda. \n[/vc_column_text][/vc_column][/vc_row]
URL:https://ecumen.org/event/sbc-stcld-christmas-with-santa-claus-12-14-2024/
LOCATION:St. Benedict’s Community — St. Cloud\, 1810 Minnesota Blvd.\, St. Cloud\, MN\, 56304\, United States
ATTACH;FMTTYPE=image/jpeg:https://ecumen.org/wp-content/uploads/2024/11/WEB-1200X630_ChristmasClauses-scaled.jpg
ORGANIZER;CN="Melinda Fast | Ecumen St. Benedict's Community St. Cloud":MAILTO:MelindaFast@ecumen.org
END:VEVENT
BEGIN:VEVENT
DTSTART;TZID=America/Chicago:20241108T130000
DTEND;TZID=America/Chicago:20241108T150000
DTSTAMP:20260419T204624
CREATED:20241025T030830Z
LAST-MODIFIED:20241025T030830Z
UID:10000026-1731070800-1731078000@ecumen.org
SUMMARY:Ecumen St. Benedict's Community — St. Cloud | Friday Pie Day | Nov. 8th at 1pm
DESCRIPTION:[vc_row][vc_column width=”1/1″][vc_column_text]Where: Ecumen St. Benedict’s Community St. Cloud — St. Benedict’s Village Independent Living\nAddress: 2000 Minnesota Blvd\, St Cloud\, MN 56304 \nEvent Description: Friday Pie Day — Nov. 8th from 1pm-3pm.\nJoin our community for a Friday Pie Day\, and enjoy delicious pie\, chat with our residents\, and learn more about St. Benedict’s Village Independent Living. \nOptional tours will be available. \nQuestions? Contact Melinda at: MelindaFast@ecumen.org | 320-203-2747\nSchedule a tour at your convenience by calling Melinda. \n[/vc_column_text][/vc_column][/vc_row]
URL:https://ecumen.org/event/sbc-st-cloud-friday-pie-day-11-08-2024/
LOCATION:St. Benedict’s Village Independent Living at Ecumen St. Benedict’s Community St. Cloud\, 2000 15th Ave. SE\, St. Cloud\, 56304\, United States
ATTACH;FMTTYPE=image/jpeg:https://ecumen.org/wp-content/uploads/2024/10/ECU-SBCStCld_PieDay-FB-img_1200x630-v241108-scaled.jpg
ORGANIZER;CN="Melinda Fast | Ecumen St. Benedict's Community St. Cloud":MAILTO:MelindaFast@ecumen.org
END:VEVENT
END:VCALENDAR