BEGIN:VCALENDAR
VERSION:2.0
PRODID:-//Ecumen - ECPv6.15.20//NONSGML v1.0//EN
CALSCALE:GREGORIAN
METHOD:PUBLISH
X-ORIGINAL-URL:https://ecumen.org
X-WR-CALDESC:Events for Ecumen
REFRESH-INTERVAL;VALUE=DURATION:PT1H
X-Robots-Tag:noindex
X-PUBLISHED-TTL:PT1H
BEGIN:VTIMEZONE
TZID:UTC
BEGIN:STANDARD
TZOFFSETFROM:+0000
TZOFFSETTO:+0000
TZNAME:UTC
DTSTART:20220101T000000
END:STANDARD
END:VTIMEZONE
BEGIN:VEVENT
DTSTART;TZID=UTC:20231207T180000
DTEND;TZID=UTC:20231207T190000
DTSTAMP:20260423T205905
CREATED:20241008T222629Z
LAST-MODIFIED:20241008T222646Z
UID:10000024-1701972000-1701975600@ecumen.org
SUMMARY:Dementia Friends Discussion | December 7th @ 6pm
DESCRIPTION:Where: Ecumen Pathstone Latitude — Cardinal Learning Center\nAddress: 115 Rogers St. | Mankato\, MN (Door #22) \nEvent Description: Dementia Friends Discussion at Ecumen Pathstone Latitude\nACT on Alzheimer’s will present for tenants\, residents\, family members\, staff and community members. This is not a training\, but a discussion led by a “Dementia Friends Champion.” \nAttendees will learn what dementia is\, what it’s like to live with the disease\, and some tips for communicating with people who have dementia. \nRefreshments & snacks provided. Seating is limited.* \n*RSVP by Dec. 6th to Laura at: 507-345-4576 or lauratemplin@ecumen.org.
URL:https://ecumen.org/event/dementia-friends-discussion-december-7th-6pm/
LOCATION:Ecumen Pathstone Latitude\, 115 Rogers Street\, Mankato\, MN\, 56001\, United States
ATTACH;FMTTYPE=image/jpeg:https://ecumen.org/wp-content/uploads/2024/10/ECU-Pathstone_DementiaFriends-FB-img_1200x630-v231207.jpg
ORGANIZER;CN="Laura Templin":MAILTO:lauratemplin@ecumen.org
END:VEVENT
END:VCALENDAR