BEGIN:VCALENDAR
VERSION:2.0
PRODID:-//Ecumen - ECPv6.15.20//NONSGML v1.0//EN
CALSCALE:GREGORIAN
METHOD:PUBLISH
X-ORIGINAL-URL:https://ecumen.org
X-WR-CALDESC:Events for Ecumen
REFRESH-INTERVAL;VALUE=DURATION:PT1H
X-Robots-Tag:noindex
X-PUBLISHED-TTL:PT1H
BEGIN:VTIMEZONE
TZID:UTC
BEGIN:STANDARD
TZOFFSETFROM:+0000
TZOFFSETTO:+0000
TZNAME:UTC
DTSTART:20220101T000000
END:STANDARD
END:VTIMEZONE
BEGIN:VEVENT
DTSTART;TZID=UTC:20240918T160000
DTEND;TZID=UTC:20240918T190000
DTSTAMP:20260423T144541
CREATED:20241008T222928Z
LAST-MODIFIED:20241008T222928Z
UID:10000025-1726675200-1726686000@ecumen.org
SUMMARY:Pulmonary Interventions—Advanced Rehab Technology\, and Therapy Tests & Measures (CEU 2-credit presentation)  | Sept. 18th @ 4:00 p.m.
DESCRIPTION:Where: Ecumen Pathstone Latitude’s Cardinal Point Learning Center\nAddress: 115 Rogers St. | Mankato\, MN \nPulmonary Interventions—Advanced Rehab Technology | Therapy Tests & Measures\nCEU credits: 2 credits \nDescription: These two one-hour intermediate level courses are for PT/PTAs and OT/OTAs and part of a series of Accelerated Clinical Practice courses. The Pulmonary Interventions—Advanced Rehab Technology course provides information on how to incorporate electrical stimulation\, ergometry/cycling\, virtual reality\, and dynamic standing balance systems into exercise within an evidence-based pulmonary rehabilitation program. \nThe Therapy Tests & Measures course discusses the reasons for performing and tracking outcome measures\, identifying evidence-based tests\, reviews appropriate psychometric properties\, and helps guide clinicians in selecting patient-specific and practice-appropriate tests and measures. \nThrough a combination of small class size and lab activities\, these courses provide the individual attention necessary for clinicians to understand the importance of outcome measures in therapy practice. \nAgenda:\n4:00 PM | Registration + Light Dinner & Refreshments\n5:00 PM – 7:00 PM | CEU Presentation \nA Light dinner & refreshments provided during presentation. Tours of Ecumen Pathstone will be offered following the presentation. \nThis is a FREE event. Attendees will earn 2 CEU credit.* \n*RSVPs requested by Sept. 13th | jodyhall@ecumen.org.
URL:https://ecumen.org/event/pulmonary-interventions-advanced-rehab-technology-and-therapy-tests-measures-ceu-2-credit-presentation-sept-18th-400-p-m/
LOCATION:Ecumen Pathstone Latitude\, 115 Rogers Street\, Mankato\, MN\, 56001\, United States
ATTACH;FMTTYPE=image/jpeg:https://ecumen.org/wp-content/uploads/2024/10/FB-1920X1005_PulmonaryInterventions-CEU-240918.jpg
ORGANIZER;CN="Jody Hall":MAILTO:jodyhall@ecumen.org
END:VEVENT
BEGIN:VEVENT
DTSTART;TZID=UTC:20231102T173000
DTEND;TZID=UTC:20231102T190000
DTSTAMP:20260423T144541
CREATED:20241008T221734Z
LAST-MODIFIED:20241008T222254Z
UID:10000023-1698946200-1698951600@ecumen.org
SUMMARY:AEROBIC EXERCISE FOR AGING ADULTS (CEU credit presentation)  | Nov. 2nd @ 5:30 p.m.
DESCRIPTION:Where: Ecumen Pathstone Latitude’s Cardinal Point Learning Center\nAddress: 115 Rogers St. | Mankato\, MN \nAEROBIC EXERCISE FOR AGING ADULTS\nCEU credits: 1.5 credits \nDescription: Ecumen Pathstone invites all PT/PTAs and OT/OTAs to this intermediate level course on aerobic exercise for aging adults. \nLearn about the cardiopulmonary changes with aging\, benefits of aerobic exercises\, and guidelines for aging adults. Including evidence-based recommendations for optimal aerobic exercise dosing for aging adults including with specific diagnostic conditions. \nAgenda:\n5:00 PM | Check-in\n5:30 PM | CEU Presentation & Light Meal\n7:00 PM | Tours/Social Time in lobby\nThis is a FREE event. Attendees will earn 1.5 CEU credit.* \n*RSVPs requested by Oct. 27th | 507-385-8557 | jodyhall@ecumen.org.
URL:https://ecumen.org/event/aerobic-exercise-for-aging-adults-ceu-credit-presentation-nov-2nd-530-p-m/
LOCATION:Ecumen Pathstone Latitude\, 115 Rogers Street\, Mankato\, MN\, 56001\, United States
ATTACH;FMTTYPE=image/jpeg:https://ecumen.org/wp-content/uploads/2024/10/FB-1920X1005_NursingCEU-231102.jpg
ORGANIZER;CN="Jody Hall":MAILTO:jodyhall@ecumen.org
END:VEVENT
END:VCALENDAR