BEGIN:VCALENDAR
VERSION:2.0
PRODID:-//Ecumen - ECPv6.15.20//NONSGML v1.0//EN
CALSCALE:GREGORIAN
METHOD:PUBLISH
X-ORIGINAL-URL:https://ecumen.org
X-WR-CALDESC:Events for Ecumen
REFRESH-INTERVAL;VALUE=DURATION:PT1H
X-Robots-Tag:noindex
X-PUBLISHED-TTL:PT1H
BEGIN:VTIMEZONE
TZID:America/New_York
BEGIN:DAYLIGHT
TZOFFSETFROM:-0500
TZOFFSETTO:-0400
TZNAME:EDT
DTSTART:20240310T070000
END:DAYLIGHT
BEGIN:STANDARD
TZOFFSETFROM:-0400
TZOFFSETTO:-0500
TZNAME:EST
DTSTART:20241103T060000
END:STANDARD
BEGIN:DAYLIGHT
TZOFFSETFROM:-0500
TZOFFSETTO:-0400
TZNAME:EDT
DTSTART:20250309T070000
END:DAYLIGHT
BEGIN:STANDARD
TZOFFSETFROM:-0400
TZOFFSETTO:-0500
TZNAME:EST
DTSTART:20251102T060000
END:STANDARD
BEGIN:DAYLIGHT
TZOFFSETFROM:-0500
TZOFFSETTO:-0400
TZNAME:EDT
DTSTART:20260308T070000
END:DAYLIGHT
BEGIN:STANDARD
TZOFFSETFROM:-0400
TZOFFSETTO:-0500
TZNAME:EST
DTSTART:20261101T060000
END:STANDARD
BEGIN:DAYLIGHT
TZOFFSETFROM:-0500
TZOFFSETTO:-0400
TZNAME:EDT
DTSTART:20270314T070000
END:DAYLIGHT
BEGIN:STANDARD
TZOFFSETFROM:-0400
TZOFFSETTO:-0500
TZNAME:EST
DTSTART:20271107T060000
END:STANDARD
END:VTIMEZONE
BEGIN:VEVENT
DTSTART;TZID=America/New_York:20260416T180000
DTEND;TZID=America/New_York:20260416T190000
DTSTAMP:20260420T041613
CREATED:20260330T142015Z
LAST-MODIFIED:20260330T152042Z
UID:10000542-1776362400-1776366000@ecumen.org
SUMMARY:April 16 at 6pm | Caring\, Coping & Community — Learning & Living Well With Dementia Series: Session 1
DESCRIPTION:[vc_row][vc_column][vc_column_text uncode_shortcode_id=”614984″]When: April 16th\, 2026 from 6:00pm – 7:00pm\nWhere: Ecumen Lakeview Commons\nAddress: 1200 Lakewood Dr N\, Maplewood\, MN 55119 \nCaring\, Coping & Community (session 1 of the Learning & Living Well With Dementia event series)*\nExplore how progressive dementia impacts individuals\, caregivers\, and families. Learn about common symptoms\, communication challenges\, and positive ways to cope. \nAbout the Speaker — Valerie J. Richards\, MBA\, Alzheimer’s Educator & Family Coach:\nValerie J. Richards\, MBA\, empowers caregivers and families to live well through dementia\, aging\, and end-of-life transitions. Learn more about Valerie at familieswithdementia.com \nRSVP appreciated as space is limited: christopherlarson@ecumen.org | 612-430-1412[/vc_column_text][vc_separator sep_color=”” uncode_shortcode_id=”728332″][vc_column_text uncode_shortcode_id=”660264″]*Learning & Living Well With Dementia is an event series brought to you by Ecumen Lakeview Commons & Ecumen Seasons at Maplewood\, presented by Valerie J. Richards\, Alzheimer’s Educator & Family Coach.  \nView all events in this series here:  \n\nSession 1 (April 16): Caring\, Coping & Community  — at Ecumen Lakeview Commons\nSession 2 (May 13): Effective & Encouraging Communication with Dementia — at Ecumen Seasons at Maplewood\nSession 3 (June 11): Positive Approaches to Behaviors Related to Dementia — at Ecumen Lakeview Commons\nSession 4 (July 15): Managing Stress\, Making Joy & Finding Meaning — at Ecumen Seasons at Maplewood\n\n[/vc_column_text][/vc_column][/vc_row][vc_row][vc_column][vc_column_text] \n[/vc_column_text][/vc_column][/vc_row]
URL:https://ecumen.org/event/caring-coping-community-learning-living-well-with-dementia-series-session1-04-16-2026/
LOCATION:Ecumen Lakeview Commons\, 1200 Lakewood Drive\, Maplewood\, 55119\, United States
ATTACH;FMTTYPE=image/jpeg:https://ecumen.org/wp-content/uploads/2026/03/3483-260312-Dementia-Series_Web_SAM_1920-x-1005-scaled.jpg
ORGANIZER;CN="Chris Larson":MAILTO:ChristopherLarson@ecumen.org
END:VEVENT
BEGIN:VEVENT
DTSTART;TZID=America/New_York:20260414T150000
DTEND;TZID=America/New_York:20260414T160000
DTSTAMP:20260420T041613
CREATED:20260402T211114Z
LAST-MODIFIED:20260402T211114Z
UID:10000548-1776178800-1776182400@ecumen.org
SUMMARY:Five W's of Advance Care Planning | April 14 at 3pm
DESCRIPTION:[vc_row][vc_column][vc_column_text uncode_shortcode_id=”467703″]When: Tuesday\, April 14th\, 2026 from 3:00pm -4:00pm\nWhere: Ecumen Seasons at Maplewood \nAddress: 1670 Legacy Pkwy E\, Maplewood\, MN 55109 \nFIVE W’S OF ADVANCE CARE PLANNING \nNational Healthcare Decisions Day is on April 16th and we want to help you create a plan for your future. Learn about the Five W’s of Advance Care Planning\, how to begin or continue conversations about your wishes\, and why advance care planning is important for you and your loved ones. There will be time for Q&A as well. \nAbout the Speaker — Valerie J. Richards\, MBA\, Alzheimer’s Educator & Family Coach:\nValerie J. Richards\, MBA\, empowers caregivers and families to live well through dementia\, aging\, and end-of-life transitions. Learn more about Valerie at familieswithdementia.com \nRSVP appreciated as space is limited: christopherlarson@ecumen.org | 612-430-1412[/vc_column_text][/vc_column][/vc_row]
URL:https://ecumen.org/event/five-w-s-of-advance-care-planning-04-14-2026/
LOCATION:Seasons at Maplewood\, 1670 Legacy Parkway E\, Maplewood\, MN\, 55109\, United States
ATTACH;FMTTYPE=image/jpeg:https://ecumen.org/wp-content/uploads/2026/04/ECU3513-260326-Advance-Care-Planning-Web_SAM-scaled.jpg
ORGANIZER;CN="Chris Larson":MAILTO:ChristopherLarson@ecumen.org
END:VEVENT
BEGIN:VEVENT
DTSTART;TZID=America/New_York:20260319T140000
DTEND;TZID=America/New_York:20260319T160000
DTSTAMP:20260420T041613
CREATED:20260303T210924Z
LAST-MODIFIED:20260303T211132Z
UID:10000541-1773928800-1773936000@ecumen.org
SUMMARY:Luck of the Vine Wine & Chocolate Social | March 19th\, 2pm-4pm
DESCRIPTION:[vc_row][vc_column][vc_column_text uncode_shortcode_id=”127531″]When: Thursday\, March 19\, 2026 from 2:00 pm – 4:00pm \nWhere: Ecumen Seasons at Maplewood (in the Great Room) — 1670 Legacy Parkway E\, Maplewood\, MN 55109 \nLUCK OF THE VINE WINE & CHOCOLATE SOCIAL! \n\n\n\n\nJoin us for Luck of the Vine — a welcoming afternoon of wine\, chocolate\, and connection. With a touch of St. Patrick’s Day charm\, guests will enjoy thoughtfully paired selections while sharing conversation and community. It’s a simple and delightful way to gather\, celebrate the season\, and perhaps find a little extra luck along the way. \n\n\n\n\nRSVP before March 17th as space is limited.* \n*For more information or to RSVP: ChristopherLarson@ecumen.org | 612-430-1412[/vc_column_text][/vc_column][/vc_row]
URL:https://ecumen.org/event/luck-of-the-vine-wine-chocolate-social-march-19th-2pm-4pm/
LOCATION:Ecumen Seasons at Maplewood\, 1670 Legacy Pkwy E\, Maplewood\, MN\, 55109\, United States
ATTACH;FMTTYPE=image/jpeg:https://ecumen.org/wp-content/uploads/2026/03/EUC-SAM_StPattysWineChoc_WebHero-scaled.jpg
ORGANIZER;CN="Chris Larson":MAILTO:ChristopherLarson@ecumen.org
END:VEVENT
BEGIN:VEVENT
DTSTART;TZID=America/New_York:20260212T140000
DTEND;TZID=America/New_York:20260212T160000
DTSTAMP:20260420T041613
CREATED:20260126T232635Z
LAST-MODIFIED:20260126T232635Z
UID:10000538-1770904800-1770912000@ecumen.org
SUMMARY:Wine & Chocolate Social | Feb. 12th\, 2pm-4pm at Ecumen Seasons at Maplewood
DESCRIPTION:[vc_row][vc_column][vc_column_text uncode_shortcode_id=”713385″]When: Thursday\, February 12\, 2026 from 2:00 pm – 4:00pm \nWhere: Ecumen Seasons at Maplewood (in the Great Room) — 1670 Legacy Parkway E\, Maplewood\, MN 55109 \nSEASONS OF LOVE: WINE & CHOCOLATE SOCIAL! \n\n\n\n\nExperience the warmth of our community with a relaxed early Valentine’s day celebration featuring wine\, chocolate\, and good company. \n\n\n\n\nRSVP before February 10th as space is limited.  \n*For more information or to RSVP: ChristopherLarson@ecumen.org | 612-430-1412[/vc_column_text][/vc_column][/vc_row]
URL:https://ecumen.org/event/sam-wine-chocolate-social-02-12-2026/
LOCATION:Ecumen Seasons at Maplewood\, 1670 Legacy Pkwy E\, Maplewood\, MN\, 55109\, United States
ATTACH;FMTTYPE=image/jpeg:https://ecumen.org/wp-content/uploads/2026/01/EUC-SAM_WineChoc_WEB-1920x1005-1-scaled.jpg
ORGANIZER;CN="Chris Larson":MAILTO:ChristopherLarson@ecumen.org
END:VEVENT
BEGIN:VEVENT
DTSTART;TZID=America/New_York:20251028T170000
DTEND;TZID=America/New_York:20251028T183000
DTSTAMP:20260420T041613
CREATED:20251007T172339Z
LAST-MODIFIED:20251007T222222Z
UID:10000466-1761670800-1761676200@ecumen.org
SUMMARY:Trunk-or-Treat | Oct. 28th\, 5pm-6:30pm at Ecumen Seasons at Maplewood
DESCRIPTION:When: Tuesday\, October 28th from 5:00 pm – 6:30pm \nWhere: Ecumen Seasons at Maplewood — 1670 Legacy Parkway E\, Maplewood\, MN 55109 \nTrunk-or-Treat — Friends & Family Welcome! \n\n\n\n\nDress up and join us with your friends and family to celebrate the “Halloween season” at Ecumen Seasons at Maplewood. Weather permitting we’ll have trunk or treating outside in our parking lot and roundabout plus some festivities inside as well! Our team members and residents look forward to seeing you! \n\n\n\n\nQuestions? Contact Chris: ChristopherLarson@ecumen.org | 651-760-3531
URL:https://ecumen.org/event/sam-trick-or-treat-10-28-2025/
LOCATION:Ecumen Seasons at Maplewood\, 1670 Legacy Pkwy E\, Maplewood\, MN\, 55109\, United States
ATTACH;FMTTYPE=image/jpeg:https://ecumen.org/wp-content/uploads/2025/10/EUC-TrunkorTreat_WEB-1920x1005-1.jpg
ORGANIZER;CN="Chris Larson":MAILTO:ChristopherLarson@ecumen.org
END:VEVENT
END:VCALENDAR