BEGIN:VCALENDAR
VERSION:2.0
PRODID:-//Ecumen - ECPv6.15.20//NONSGML v1.0//EN
CALSCALE:GREGORIAN
METHOD:PUBLISH
X-ORIGINAL-URL:https://ecumen.org
X-WR-CALDESC:Events for Ecumen
REFRESH-INTERVAL;VALUE=DURATION:PT1H
X-Robots-Tag:noindex
X-PUBLISHED-TTL:PT1H
BEGIN:VTIMEZONE
TZID:America/Chicago
BEGIN:DAYLIGHT
TZOFFSETFROM:-0600
TZOFFSETTO:-0500
TZNAME:CDT
DTSTART:20230312T080000
END:DAYLIGHT
BEGIN:STANDARD
TZOFFSETFROM:-0500
TZOFFSETTO:-0600
TZNAME:CST
DTSTART:20231105T070000
END:STANDARD
BEGIN:DAYLIGHT
TZOFFSETFROM:-0600
TZOFFSETTO:-0500
TZNAME:CDT
DTSTART:20240310T080000
END:DAYLIGHT
BEGIN:STANDARD
TZOFFSETFROM:-0500
TZOFFSETTO:-0600
TZNAME:CST
DTSTART:20241103T070000
END:STANDARD
BEGIN:DAYLIGHT
TZOFFSETFROM:-0600
TZOFFSETTO:-0500
TZNAME:CDT
DTSTART:20250309T080000
END:DAYLIGHT
BEGIN:STANDARD
TZOFFSETFROM:-0500
TZOFFSETTO:-0600
TZNAME:CST
DTSTART:20251102T070000
END:STANDARD
END:VTIMEZONE
BEGIN:VEVENT
DTSTART;TZID=America/Chicago:20241212T160000
DTEND;TZID=America/Chicago:20241212T180000
DTSTAMP:20260423T125053
CREATED:20241126T004842Z
LAST-MODIFIED:20241126T004926Z
UID:10000028-1734019200-1734026400@ecumen.org
SUMMARY:Chateau Waters | Senior Night at Sartell Community Center | Dec. 12th from 4-6 pm
DESCRIPTION:[vc_row][vc_column width=”1/1″][vc_column_text]When: Thursday\, December 12th from 4-6pm (BINGO: 4-5pm | Holiday Lights Tour: 5-6pm)\nWhere: 850 19th St S\, Sartell\, MN 56377 \nEvent Description: Senior Night — Dec. 12th from 4-6pm (BINGO 4-5pm | Holiday Lights Tour 5-6pm)\nChateau Waters invites you join us for SENIOR NIGHT at the Sartell Community Center. The night will kick-off with a spirited game of BINGO. Win fun prizes such as gift baskets & wine. Next\, we’ll take a local tour of holiday lights in chauffeur-driven vehicles provided by a local car dealership. \nThis event is free and open to the public. \nQuestions? Contact Audry at: audryninnemann@ecumen.org | 320-534-3007\nSchedule a tour at your convenience by calling Audry. \n[/vc_column_text][/vc_column][/vc_row]
URL:https://ecumen.org/event/chateau-waters-senior-night-12-12-2024/
LOCATION:850 19th St. S\, Sartell\, MN 56377\, 850 19th St. S\, Sartell\, MN\, 56377\, United States
ATTACH;FMTTYPE=image/jpeg:https://ecumen.org/wp-content/uploads/2024/11/WEBimg_SeniorNight_1200x630-scaled.jpg
ORGANIZER;CN="Audry Ninnemann":MAILTO:audryninnemann@ecumen.org
END:VEVENT
BEGIN:VEVENT
DTSTART;TZID=America/Chicago:20241206T170000
DTEND;TZID=America/Chicago:20241206T190000
DTSTAMP:20260423T125053
CREATED:20241122T215828Z
LAST-MODIFIED:20241122T215828Z
UID:10000027-1733504400-1733511600@ecumen.org
SUMMARY:Chateau Waters | Country Lights Festival | Dec. 6th from 5-7 pm
DESCRIPTION:[vc_row][vc_column width=”1/1″][vc_column_text]When: Friday\, December 6th from 5-7pm\nWhere: 850 19th St S\, Sartell\, MN 56377 \nEvent Description: Country Lights Festival — Dec. 6th from 5-7pm.\nJoin Chateau Waters at the family friendly Country Lights Festival with over 33 acres of light displays around Lake Francis. Chateau Waters will provide hot chocolate to keep you cozy as you enjoy the beautiful displays\, activities for all ages and s’mores. \nQuestions? Contact Audry at: audryninnemann@ecumen.org | 320-534-3007\nSchedule a tour at your convenience by calling Audry. \n[/vc_column_text][/vc_column][/vc_row]
URL:https://ecumen.org/event/chateau-waters-country-lights-festival-12-06-2024/
LOCATION:850 19th St. S\, Sartell\, MN 56377\, 850 19th St. S\, Sartell\, MN\, 56377\, United States
ATTACH;FMTTYPE=image/jpeg:https://ecumen.org/wp-content/uploads/2024/11/WEBimg_CtryLtsFestival_1200x630-scaled.jpg
ORGANIZER;CN="Audry Ninnemann":MAILTO:audryninnemann@ecumen.org
END:VEVENT
END:VCALENDAR